BEGIN:VCALENDAR
VERSION:2.0
PRODID:-//Power Racing Series - ECPv6.10.0//NONSGML v1.0//EN
CALSCALE:GREGORIAN
METHOD:PUBLISH
X-WR-CALNAME:Power Racing Series
X-ORIGINAL-URL:https://powerracingseries.org
X-WR-CALDESC:Events for Power Racing Series
REFRESH-INTERVAL;VALUE=DURATION:PT1H
X-Robots-Tag:noindex
X-PUBLISHED-TTL:PT1H
BEGIN:VTIMEZONE
TZID:America/New_York
BEGIN:DAYLIGHT
TZOFFSETFROM:-0500
TZOFFSETTO:-0400
TZNAME:EDT
DTSTART:20240310T070000
END:DAYLIGHT
BEGIN:STANDARD
TZOFFSETFROM:-0400
TZOFFSETTO:-0500
TZNAME:EST
DTSTART:20241103T060000
END:STANDARD
TZID:UTC
BEGIN:STANDARD
TZOFFSETFROM:+0000
TZOFFSETTO:+0000
TZNAME:UTC
DTSTART:20240101T000000
END:STANDARD
END:VTIMEZONE
BEGIN:VEVENT
DTSTART;TZID=America/New_York:20241005T100000
DTEND;TZID=America/New_York:20241006T160000
DTSTAMP:20260420T213004
CREATED:20240328T000334Z
LAST-MODIFIED:20240924T201420Z
UID:1606-1728122400-1728230400@powerracingseries.org
SUMMARY:Maker Faire Sussex County 2024
DESCRIPTION:Saturday11:00 AM – Qualifying Laps12:30 PM – Sprint Race 12:00 PM – Sprint Race 23:30 PM – Relay9:00 PM – Night Race Sunday11:00 AM – Sprint 31:00 PM – 75 Minute Endurance Race5:00PM – Close
URL:https://powerracingseries.org/event/sussex-county-maker-faire-2024/
LOCATION:Ideal Farm and Garden Centre\, 222 NJ-15\, Lafayette Township\, NJ\, 07848\, United States
ATTACH;FMTTYPE=image/png:https://powerracingseries.org/wp-content/uploads/2024/03/Sussex-CTY-Facebook-Cover.png
END:VEVENT
BEGIN:VEVENT
DTSTART;TZID=UTC:20241019T080000
DTEND;TZID=UTC:20241020T170000
DTSTAMP:20260420T213004
CREATED:20240714T181913Z
LAST-MODIFIED:20240903T212757Z
UID:1746-1729324800-1729443600@powerracingseries.org
SUMMARY:PRS: Rally PGH 2024
DESCRIPTION:Rally PGH is back!  Power Racing Series: RallyPGH\, an offshoot of Power Racing Series where adults build electric go karts from Power Wheels on a budget. This rally event will occur in Pittsburgh\, PA and combine silly go karts\, off-road racing\, camping\, and comradery in one fun weekend.
URL:https://powerracingseries.org/event/prs-rally-pgh-2024/
LOCATION:Pigsburgh Squealers Rescue\, 130 Lampus Ln\, Tarentum\, Pennsylvania\, 15084\, United States
END:VEVENT
END:VCALENDAR