BEGIN:VCALENDAR
VERSION:2.0
PRODID:-//Power Racing Series - ECPv6.10.0//NONSGML v1.0//EN
CALSCALE:GREGORIAN
METHOD:PUBLISH
X-WR-CALNAME:Power Racing Series
X-ORIGINAL-URL:https://powerracingseries.org
X-WR-CALDESC:Events for Power Racing Series
REFRESH-INTERVAL;VALUE=DURATION:PT1H
X-Robots-Tag:noindex
X-PUBLISHED-TTL:PT1H
BEGIN:VTIMEZONE
TZID:America/New_York
BEGIN:DAYLIGHT
TZOFFSETFROM:-0500
TZOFFSETTO:-0400
TZNAME:EDT
DTSTART:20240310T070000
END:DAYLIGHT
BEGIN:STANDARD
TZOFFSETFROM:-0400
TZOFFSETTO:-0500
TZNAME:EST
DTSTART:20241103T060000
END:STANDARD
END:VTIMEZONE
BEGIN:VEVENT
DTSTART;TZID=America/New_York:20240525T120000
DTEND;TZID=America/New_York:20240526T170000
DTSTAMP:20260421T062310
CREATED:20240327T224310Z
LAST-MODIFIED:20240328T161737Z
UID:1560-1716638400-1716742800@powerracingseries.org
SUMMARY:Ticonderoga Trials 2024
DESCRIPTION:Grab your off-roading tires and camping gear\, we’re headed out to upstate New York for this much-anticipated big kids summer camp! Food will be provided (which is why there is a higher charge than other races) but otherwise this event will be funded by our organizing crew\, so any donations are appreciated! Check out the beautiful racer guide below that our event host Hunter put together for info on schedule\, logistics\, etc. Keep scrolling for kart and spectator registration! \n\nSchedule:May 255:00PM – Qualifying Laps6:00 PM – Sprint 18:00PM – Sprint 210:00PM – Night Sprint 3 (Track will be lit\, but kart lights are rquired)10:30PM – Bonfire and shenanigansMay 2610:00AM – Challenge Course12:00PM – 75 Min Endurance Race The_Ticonderoga_Trials_Racer_Manual_2024-2Download
URL:https://powerracingseries.org/event/ticonderoga-trials/
LOCATION:Leonard Motor Works\, 2615 Main Street\, Crown Point\, NY\, 12928\, United States
ATTACH;FMTTYPE=image/png:https://powerracingseries.org/wp-content/uploads/2024/03/Ticonderoga-Facebook-Cover.png
END:VEVENT
END:VCALENDAR