BEGIN:VCALENDAR
VERSION:2.0
PRODID:-//Power Racing Series - ECPv6.10.0//NONSGML v1.0//EN
CALSCALE:GREGORIAN
METHOD:PUBLISH
X-WR-CALNAME:Power Racing Series
X-ORIGINAL-URL:https://powerracingseries.org
X-WR-CALDESC:Events for Power Racing Series
REFRESH-INTERVAL;VALUE=DURATION:PT1H
X-Robots-Tag:noindex
X-PUBLISHED-TTL:PT1H
BEGIN:VTIMEZONE
TZID:America/New_York
BEGIN:DAYLIGHT
TZOFFSETFROM:-0500
TZOFFSETTO:-0400
TZNAME:EDT
DTSTART:20240310T070000
END:DAYLIGHT
BEGIN:STANDARD
TZOFFSETFROM:-0400
TZOFFSETTO:-0500
TZNAME:EST
DTSTART:20241103T060000
END:STANDARD
END:VTIMEZONE
BEGIN:VEVENT
DTSTART;TZID=America/New_York:20240504T080000
DTEND;TZID=America/New_York:20240504T180000
DTSTAMP:20260421T062228
CREATED:20240314T220758Z
LAST-MODIFIED:20240430T160919Z
UID:1539-1714809600-1714845600@powerracingseries.org
SUMMARY:Chicago Makes! 2024
DESCRIPTION:We’re thrilled to announce the second annual Chicago Makes! DIY Faire\, hosted by Power Racing Series! We were tired of waiting for an event that could accomodate us\, so we made our own! Come bring your karts\, robots\, arts and crafts and hang out at Guaranteed Rate Field from 10AM-6PM on May the 4th (be with you). We will have live music\, booths from local NFPs and businesses\, food\, and fun. T-Shirts will also be available for sale during the event.  \n\nKeep scrolling for Kart\, Robots\, and Maker Booth registration! \n\nTrack Conditions: Asphalt and water binsParking: available at the lotMay 4\, 2024 Schedule – 1-Day Event8:00 – Load-In Begins10:00 – PRS Qualifying Round11:00 – Robots Race11:30 – PRS Sprint Race 112:00 – Robots Rugby12:30 – PRS Sprint Race 21:00 – LUNCH BREAK1:30 – BAND: Queercountry Bandwagon2:30 – PRS Sprint Race 33:00 – Robots Fight4:00 – BAND: Robot Civil War5:00 – PRS Endurance Race6:00 – Faire Close!7:30 – Pack-Out Ends
URL:https://powerracingseries.org/event/chicago/
LOCATION:Indiana
ATTACH;FMTTYPE=image/png:https://powerracingseries.org/wp-content/uploads/2024/03/Chicago-Facebook-Cover-1.png
END:VEVENT
END:VCALENDAR